BEGIN:VCALENDAR
VERSION:2.0
PRODID:-//Tukios.com/
BEGIN:VEVENT
UID:21da4021-5c00-4e11-90ed-81d85fb44331@www.laveniasummers.com
DTSTAMP:20260420T200334Z
DTSTART:20260425T160000Z
DTEND:20260425T170000Z
SUMMARY:Celebration of Life
DESCRIPTION:
URL:https://www.laveniasummers.com/obituaries/latasha-burke
LOCATION: 5811 E 38th St  Indianapolis IN 46218
GEO:39.8247833;-86.0690496
END:VEVENT
END:VCALENDAR