BEGIN:VCALENDAR
VERSION:2.0
PRODID:-//Tukios.com/
BEGIN:VEVENT
UID:7b1fb3df-096b-4baf-b0a1-c6012c70e0f4@www.laveniasummers.com
DTSTAMP:20260420T200053Z
DTSTART:20260425T140000Z
DTEND:20260425T160000Z
SUMMARY:Visitation
DESCRIPTION:
URL:https://www.laveniasummers.com/obituaries/latasha-burke
LOCATION: 5811 E 38th St  Indianapolis IN 46218
GEO:39.8247833;-86.0690496
END:VEVENT
END:VCALENDAR