BEGIN:VCALENDAR
VERSION:2.0
PRODID:-//Tukios.com/
BEGIN:VEVENT
UID:afe737e2-839f-48d5-83e7-3a2622c2d452@www.laveniasummers.com
DTSTAMP:20260423T213757Z
DTSTART:20260430T140000Z
DTEND:20260430T160000Z
SUMMARY:Visitation
DESCRIPTION:
URL:https://www.laveniasummers.com/obituaries/jayda-smith
LOCATION: 1301 North Goodlet Avenue  Indianapolis IN 46222
GEO:39.7856151;-86.2124412
END:VEVENT
END:VCALENDAR